BEGIN:VCALENDAR
VERSION:2.0
PRODID:-//Educational Community for Homeowners (ECHO) - ECPv6.15.20//NONSGML v1.0//EN
CALSCALE:GREGORIAN
METHOD:PUBLISH
X-WR-CALNAME:Educational Community for Homeowners (ECHO)
X-ORIGINAL-URL:https://echo-ca.org
X-WR-CALDESC:Events for Educational Community for Homeowners (ECHO)
REFRESH-INTERVAL;VALUE=DURATION:PT1H
X-Robots-Tag:noindex
X-PUBLISHED-TTL:PT1H
BEGIN:VTIMEZONE
TZID:America/Los_Angeles
BEGIN:DAYLIGHT
TZOFFSETFROM:-0800
TZOFFSETTO:-0700
TZNAME:PDT
DTSTART:20250309T100000
END:DAYLIGHT
BEGIN:STANDARD
TZOFFSETFROM:-0700
TZOFFSETTO:-0800
TZNAME:PST
DTSTART:20251102T090000
END:STANDARD
BEGIN:DAYLIGHT
TZOFFSETFROM:-0800
TZOFFSETTO:-0700
TZNAME:PDT
DTSTART:20260308T100000
END:DAYLIGHT
BEGIN:STANDARD
TZOFFSETFROM:-0700
TZOFFSETTO:-0800
TZNAME:PST
DTSTART:20261101T090000
END:STANDARD
BEGIN:DAYLIGHT
TZOFFSETFROM:-0800
TZOFFSETTO:-0700
TZNAME:PDT
DTSTART:20270314T100000
END:DAYLIGHT
BEGIN:STANDARD
TZOFFSETFROM:-0700
TZOFFSETTO:-0800
TZNAME:PST
DTSTART:20271107T090000
END:STANDARD
END:VTIMEZONE
BEGIN:VEVENT
DTSTART;TZID=America/Los_Angeles:20260422T113000
DTEND;TZID=America/Los_Angeles:20260422T133000
DTSTAMP:20260421T010526
CREATED:20260416T175641Z
LAST-MODIFIED:20260416T175641Z
UID:31907-1776857400-1776864600@echo-ca.org
SUMMARY:North Bay Resource Panel - April 2026
DESCRIPTION:
URL:https://echo-ca.org/event/north-bay-resource-panel-april-2026/
LOCATION:Hamilton Community Center\, 503 South Palm Drive\, Novato\, 94949\, United States
ATTACH;FMTTYPE=image/png:https://echo-ca.org/wp-content/uploads/2022/08/thumbnail_North-Bay-RP.png
END:VEVENT
BEGIN:VEVENT
DTSTART;TZID=America/Los_Angeles:20260422T173000
DTEND;TZID=America/Los_Angeles:20260422T193000
DTSTAMP:20260421T010526
CREATED:20260416T175801Z
LAST-MODIFIED:20260416T175939Z
UID:31908-1776879000-1776886200@echo-ca.org
SUMMARY:San Francisco Resource Panel - April 2026
DESCRIPTION:
URL:https://echo-ca.org/event/san-francisco-resource-panel-april-2026/
LOCATION:221 Main St\, 221 Main Street\, 4th Floor\, San Francisco\, CA\, 94105\, United States
ATTACH;FMTTYPE=image/png:https://echo-ca.org/wp-content/uploads/2024/01/SF-RP-HEADER.png
END:VEVENT
END:VCALENDAR