BEGIN:VCALENDAR
VERSION:2.0
PRODID:-//Educational Community for Homeowners (ECHO) - ECPv6.15.20//NONSGML v1.0//EN
CALSCALE:GREGORIAN
METHOD:PUBLISH
X-ORIGINAL-URL:https://echo-ca.org
X-WR-CALDESC:Events for Educational Community for Homeowners (ECHO)
REFRESH-INTERVAL;VALUE=DURATION:PT1H
X-Robots-Tag:noindex
X-PUBLISHED-TTL:PT1H
BEGIN:VTIMEZONE
TZID:America/Los_Angeles
BEGIN:DAYLIGHT
TZOFFSETFROM:-0800
TZOFFSETTO:-0700
TZNAME:PDT
DTSTART:20250309T100000
END:DAYLIGHT
BEGIN:STANDARD
TZOFFSETFROM:-0700
TZOFFSETTO:-0800
TZNAME:PST
DTSTART:20251102T090000
END:STANDARD
BEGIN:DAYLIGHT
TZOFFSETFROM:-0800
TZOFFSETTO:-0700
TZNAME:PDT
DTSTART:20260308T100000
END:DAYLIGHT
BEGIN:STANDARD
TZOFFSETFROM:-0700
TZOFFSETTO:-0800
TZNAME:PST
DTSTART:20261101T090000
END:STANDARD
BEGIN:DAYLIGHT
TZOFFSETFROM:-0800
TZOFFSETTO:-0700
TZNAME:PDT
DTSTART:20270314T100000
END:DAYLIGHT
BEGIN:STANDARD
TZOFFSETFROM:-0700
TZOFFSETTO:-0800
TZNAME:PST
DTSTART:20271107T090000
END:STANDARD
END:VTIMEZONE
BEGIN:VEVENT
DTSTART;TZID=America/Los_Angeles:20260502T090000
DTEND;TZID=America/Los_Angeles:20260502T123000
DTSTAMP:20260423T020522
CREATED:20260416T180959Z
LAST-MODIFIED:20260416T180959Z
UID:31914-1777712400-1777725000@echo-ca.org
SUMMARY:Ask the Attorney: Laws Other than the Davis-Stirling Act
DESCRIPTION:
URL:https://echo-ca.org/event/ask-the-attorney-laws-other-than-the-davis-stirling-act-4/
LOCATION:An Online Virtual Experience via Zoom!
ATTACH;FMTTYPE=image/png:https://echo-ca.org/wp-content/uploads/2026/04/9fa8ba03-9001-4ccd-a1a3-219dfe7db647.png
END:VEVENT
END:VCALENDAR